BEGIN:VCALENDAR
VERSION:2.0
PRODID:-//Jesmond Library - ECPv6.15.17.1//NONSGML v1.0//EN
CALSCALE:GREGORIAN
METHOD:PUBLISH
X-WR-CALNAME:Jesmond Library
X-ORIGINAL-URL:https://jesmondlibrary.org
X-WR-CALDESC:Events for Jesmond Library
REFRESH-INTERVAL;VALUE=DURATION:PT1H
X-Robots-Tag:noindex
X-PUBLISHED-TTL:PT1H
BEGIN:VTIMEZONE
TZID:Europe/London
BEGIN:DAYLIGHT
TZOFFSETFROM:+0000
TZOFFSETTO:+0100
TZNAME:BST
DTSTART:20230326T010000
END:DAYLIGHT
BEGIN:STANDARD
TZOFFSETFROM:+0100
TZOFFSETTO:+0000
TZNAME:GMT
DTSTART:20231029T010000
END:STANDARD
BEGIN:DAYLIGHT
TZOFFSETFROM:+0000
TZOFFSETTO:+0100
TZNAME:BST
DTSTART:20240331T010000
END:DAYLIGHT
BEGIN:STANDARD
TZOFFSETFROM:+0100
TZOFFSETTO:+0000
TZNAME:GMT
DTSTART:20241027T010000
END:STANDARD
BEGIN:DAYLIGHT
TZOFFSETFROM:+0000
TZOFFSETTO:+0100
TZNAME:BST
DTSTART:20250330T010000
END:DAYLIGHT
BEGIN:STANDARD
TZOFFSETFROM:+0100
TZOFFSETTO:+0000
TZNAME:GMT
DTSTART:20251026T010000
END:STANDARD
END:VTIMEZONE
BEGIN:VEVENT
DTSTART;TZID=Europe/London:20240928T093000
DTEND;TZID=Europe/London:20240928T163000
DTSTAMP:20260419T143852
CREATED:20231205T112847Z
LAST-MODIFIED:20240103T135812Z
UID:10053102-1727515800-1727541000@jesmondlibrary.org
SUMMARY:LIBRARY OPEN SATURDAYS
DESCRIPTION:
URL:https://jesmondlibrary.org/event/library-open-saturdays-2024/2024-09-28/
LOCATION:Main Room
ORGANIZER;CN="Jesmond Library":MAILTO:events@jesmondlibrary.org
END:VEVENT
BEGIN:VEVENT
DTSTART;TZID=Europe/London:20240928T100000
DTEND;TZID=Europe/London:20240928T110000
DTSTAMP:20260419T143852
CREATED:20240220T133750Z
LAST-MODIFIED:20240220T133751Z
UID:10050424-1727517600-1727521200@jesmondlibrary.org
SUMMARY:Lib Dem Surgery
DESCRIPTION:
URL:https://jesmondlibrary.org/event/lib-dem-surgery-2/2024-09-28/
LOCATION:Main Room
END:VEVENT
BEGIN:VEVENT
DTSTART;TZID=Europe/London:20240928T100000
DTEND;TZID=Europe/London:20240928T120000
DTSTAMP:20260419T143852
CREATED:20240709T095639Z
LAST-MODIFIED:20240823T090454Z
UID:10054213-1727517600-1727524800@jesmondlibrary.org
SUMMARY:Creative Writing Sessions with Amanda Quinn: Rewriting  History
DESCRIPTION:
URL:https://jesmondlibrary.org/event/creative-writing-sessions-with-amanda-quinn-6/
LOCATION:Catherine Cookson Room
ATTACH;FMTTYPE=image/jpeg:https://jesmondlibrary.org/wp-content/uploads/2024/05/Autumn-Creative-Writing-Wkshops-jpeg-poster-1.jpg
ORGANIZER;CN="Jesmond Library":MAILTO:events@jesmondlibrary.org
END:VEVENT
BEGIN:VEVENT
DTSTART;TZID=Europe/London:20240928T133000
DTEND;TZID=Europe/London:20240928T163000
DTSTAMP:20260419T143852
CREATED:20240622T121025Z
LAST-MODIFIED:20241129T143207Z
UID:10054796-1727530200-1727541000@jesmondlibrary.org
SUMMARY:Italian Language Course for Children
DESCRIPTION:
URL:https://jesmondlibrary.org/event/italian-language-course-for-children-3/2024-09-28/
LOCATION:Sid Chaplin room
END:VEVENT
END:VCALENDAR