BEGIN:VCALENDAR
VERSION:2.0
PRODID:-//Jesmond Library - ECPv6.15.17.1//NONSGML v1.0//EN
CALSCALE:GREGORIAN
METHOD:PUBLISH
X-WR-CALNAME:Jesmond Library
X-ORIGINAL-URL:https://jesmondlibrary.org
X-WR-CALDESC:Events for Jesmond Library
REFRESH-INTERVAL;VALUE=DURATION:PT1H
X-Robots-Tag:noindex
X-PUBLISHED-TTL:PT1H
BEGIN:VTIMEZONE
TZID:Europe/London
BEGIN:DAYLIGHT
TZOFFSETFROM:+0000
TZOFFSETTO:+0100
TZNAME:BST
DTSTART:20230326T010000
END:DAYLIGHT
BEGIN:STANDARD
TZOFFSETFROM:+0100
TZOFFSETTO:+0000
TZNAME:GMT
DTSTART:20231029T010000
END:STANDARD
BEGIN:DAYLIGHT
TZOFFSETFROM:+0000
TZOFFSETTO:+0100
TZNAME:BST
DTSTART:20240331T010000
END:DAYLIGHT
BEGIN:STANDARD
TZOFFSETFROM:+0100
TZOFFSETTO:+0000
TZNAME:GMT
DTSTART:20241027T010000
END:STANDARD
BEGIN:DAYLIGHT
TZOFFSETFROM:+0000
TZOFFSETTO:+0100
TZNAME:BST
DTSTART:20250330T010000
END:DAYLIGHT
BEGIN:STANDARD
TZOFFSETFROM:+0100
TZOFFSETTO:+0000
TZNAME:GMT
DTSTART:20251026T010000
END:STANDARD
END:VTIMEZONE
BEGIN:VEVENT
DTSTART;TZID=Europe/London:20240920T093000
DTEND;TZID=Europe/London:20240920T123000
DTSTAMP:20260421T100251
CREATED:20231205T112827Z
LAST-MODIFIED:20240211T172652Z
UID:10053049-1726824600-1726835400@jesmondlibrary.org
SUMMARY:LIBRARY OPEN FRIDAYS
DESCRIPTION:Library Open 2024
URL:https://jesmondlibrary.org/event/library-open-fridays-2024/2024-09-20/
LOCATION:Main Room
ORGANIZER;CN="Jesmond Library":MAILTO:events@jesmondlibrary.org
END:VEVENT
BEGIN:VEVENT
DTSTART;TZID=Europe/London:20240920T093000
DTEND;TZID=Europe/London:20240920T123000
DTSTAMP:20260421T100251
CREATED:20231229T121359Z
LAST-MODIFIED:20240130T145220Z
UID:10053352-1726824600-1726835400@jesmondlibrary.org
SUMMARY:English Language Conversation Class
DESCRIPTION:
URL:https://jesmondlibrary.org/event/friends-friday-4-2024-02-02/2024-09-20/
LOCATION:Catherine Cookson Room\, Jesmond Library\, Newcastle upon Tyne\, NE2 2DL\, United Kingdom
ATTACH;FMTTYPE=image/jpeg:https://jesmondlibrary.org/wp-content/uploads/2023/12/ENGLISH-LANGUAGE.jpg
ORGANIZER;CN="Jesmond Library":MAILTO:events@jesmondlibrary.org
GEO:54.9932456;-1.606461
X-APPLE-STRUCTURED-LOCATION;VALUE=URI;X-ADDRESS=Catherine Cookson Room Jesmond Library Newcastle upon Tyne NE2 2DL United Kingdom;X-APPLE-RADIUS=500;X-TITLE=Jesmond Library:geo:-1.606461,54.9932456
END:VEVENT
BEGIN:VEVENT
DTSTART;TZID=Europe/London:20240920T100000
DTEND;TZID=Europe/London:20240920T120000
DTSTAMP:20260421T100251
CREATED:20240904T091651Z
LAST-MODIFIED:20240906T113159Z
UID:10054774-1726826400-1726833600@jesmondlibrary.org
SUMMARY:Volunteer Centre Stall
DESCRIPTION:
URL:https://jesmondlibrary.org/event/volunteer-centre-stall/
LOCATION:Main Room
ATTACH;FMTTYPE=image/png:https://jesmondlibrary.org/wp-content/uploads/2024/09/VCN_dropin_at_Jesmond_Library1.png
END:VEVENT
BEGIN:VEVENT
DTSTART;TZID=Europe/London:20240920T103000
DTEND;TZID=Europe/London:20240920T110000
DTSTAMP:20260421T100251
CREATED:20240726T092410Z
LAST-MODIFIED:20240817T165630Z
UID:10054700-1726828200-1726830000@jesmondlibrary.org
SUMMARY:Police Drop-In
DESCRIPTION:
URL:https://jesmondlibrary.org/event/police-drop-in-3/
ATTACH;FMTTYPE=image/jpeg:https://jesmondlibrary.org/wp-content/uploads/2024/07/Police-Drop-In-scaled.jpg
ORGANIZER;CN="Jesmond Library":MAILTO:events@jesmondlibrary.org
END:VEVENT
END:VCALENDAR