BEGIN:VCALENDAR
VERSION:2.0
PRODID:-//Jesmond Library - ECPv6.15.17.1//NONSGML v1.0//EN
CALSCALE:GREGORIAN
METHOD:PUBLISH
X-ORIGINAL-URL:https://jesmondlibrary.org
X-WR-CALDESC:Events for Jesmond Library
REFRESH-INTERVAL;VALUE=DURATION:PT1H
X-Robots-Tag:noindex
X-PUBLISHED-TTL:PT1H
BEGIN:VTIMEZONE
TZID:Europe/London
BEGIN:DAYLIGHT
TZOFFSETFROM:+0000
TZOFFSETTO:+0100
TZNAME:BST
DTSTART:20230326T010000
END:DAYLIGHT
BEGIN:STANDARD
TZOFFSETFROM:+0100
TZOFFSETTO:+0000
TZNAME:GMT
DTSTART:20231029T010000
END:STANDARD
BEGIN:DAYLIGHT
TZOFFSETFROM:+0000
TZOFFSETTO:+0100
TZNAME:BST
DTSTART:20240331T010000
END:DAYLIGHT
BEGIN:STANDARD
TZOFFSETFROM:+0100
TZOFFSETTO:+0000
TZNAME:GMT
DTSTART:20241027T010000
END:STANDARD
BEGIN:DAYLIGHT
TZOFFSETFROM:+0000
TZOFFSETTO:+0100
TZNAME:BST
DTSTART:20250330T010000
END:DAYLIGHT
BEGIN:STANDARD
TZOFFSETFROM:+0100
TZOFFSETTO:+0000
TZNAME:GMT
DTSTART:20251026T010000
END:STANDARD
END:VTIMEZONE
BEGIN:VEVENT
DTSTART;TZID=Europe/London:20240918T123000
DTEND;TZID=Europe/London:20240918T170000
DTSTAMP:20260423T155242
CREATED:20240209T113933Z
LAST-MODIFIED:20240520T162842Z
UID:10053691-1726662600-1726678800@jesmondlibrary.org
SUMMARY:Social Housing Resident Training 04: How to run an effective residents' association
DESCRIPTION:
URL:https://jesmondlibrary.org/event/community-libraries-training-4/
LOCATION:Main Room & Catherine Cookson Room
END:VEVENT
BEGIN:VEVENT
DTSTART;TZID=Europe/London:20240918T183000
DTEND;TZID=Europe/London:20240918T203000
DTSTAMP:20260423T155242
CREATED:20240509T131242Z
LAST-MODIFIED:20240905T111911Z
UID:10054474-1726684200-1726691400@jesmondlibrary.org
SUMMARY:North Jesmond Labour Party meeting
DESCRIPTION:
URL:https://jesmondlibrary.org/event/north-jesmond-labour-party-meeting/
LOCATION:Main Room
END:VEVENT
BEGIN:VEVENT
DTSTART;TZID=Europe/London:20240918T190000
DTEND;TZID=Europe/London:20240918T210000
DTSTAMP:20260423T155242
CREATED:20231118T114739Z
LAST-MODIFIED:20231229T120003Z
UID:10050175-1726686000-1726693200@jesmondlibrary.org
SUMMARY:Serene Reflections
DESCRIPTION:
URL:https://jesmondlibrary.org/event/serene-reflections/2024-09-18/
LOCATION:Sid Chaplin room
END:VEVENT
END:VCALENDAR