BEGIN:VCALENDAR
VERSION:2.0
PRODID:-//Jesmond Library - ECPv6.15.17.1//NONSGML v1.0//EN
CALSCALE:GREGORIAN
METHOD:PUBLISH
X-ORIGINAL-URL:https://jesmondlibrary.org
X-WR-CALDESC:Events for Jesmond Library
REFRESH-INTERVAL;VALUE=DURATION:PT1H
X-Robots-Tag:noindex
X-PUBLISHED-TTL:PT1H
BEGIN:VTIMEZONE
TZID:Europe/London
BEGIN:DAYLIGHT
TZOFFSETFROM:+0000
TZOFFSETTO:+0100
TZNAME:BST
DTSTART:20230326T010000
END:DAYLIGHT
BEGIN:STANDARD
TZOFFSETFROM:+0100
TZOFFSETTO:+0000
TZNAME:GMT
DTSTART:20231029T010000
END:STANDARD
BEGIN:DAYLIGHT
TZOFFSETFROM:+0000
TZOFFSETTO:+0100
TZNAME:BST
DTSTART:20240331T010000
END:DAYLIGHT
BEGIN:STANDARD
TZOFFSETFROM:+0100
TZOFFSETTO:+0000
TZNAME:GMT
DTSTART:20241027T010000
END:STANDARD
BEGIN:DAYLIGHT
TZOFFSETFROM:+0000
TZOFFSETTO:+0100
TZNAME:BST
DTSTART:20250330T010000
END:DAYLIGHT
BEGIN:STANDARD
TZOFFSETFROM:+0100
TZOFFSETTO:+0000
TZNAME:GMT
DTSTART:20251026T010000
END:STANDARD
END:VTIMEZONE
BEGIN:VEVENT
DTSTART;TZID=Europe/London:20240914T093000
DTEND;TZID=Europe/London:20240914T163000
DTSTAMP:20260419T130646
CREATED:20231205T112847Z
LAST-MODIFIED:20240103T135812Z
UID:10053100-1726306200-1726331400@jesmondlibrary.org
SUMMARY:LIBRARY OPEN SATURDAYS
DESCRIPTION:
URL:https://jesmondlibrary.org/event/library-open-saturdays-2024/2024-09-14/
LOCATION:Main Room
ORGANIZER;CN="Jesmond Library":MAILTO:events@jesmondlibrary.org
END:VEVENT
BEGIN:VEVENT
DTSTART;TZID=Europe/London:20240914T100000
DTEND;TZID=Europe/London:20240914T120000
DTSTAMP:20260419T130646
CREATED:20240709T095452Z
LAST-MODIFIED:20240823T090341Z
UID:10054211-1726308000-1726315200@jesmondlibrary.org
SUMMARY:Creative Writing Sessions with Amanda Quinn: Write What You Know
DESCRIPTION:
URL:https://jesmondlibrary.org/event/creative-writing-sessions-with-amanda-quinn-4/
LOCATION:Catherine Cookson Room
ATTACH;FMTTYPE=image/jpeg:https://jesmondlibrary.org/wp-content/uploads/2024/05/Autumn-Creative-Writing-Wkshops-jpeg-poster.jpg
ORGANIZER;CN="Jesmond Library":MAILTO:events@jesmondlibrary.org
END:VEVENT
END:VCALENDAR