BEGIN:VCALENDAR
VERSION:2.0
PRODID:-//Jesmond Library - ECPv6.15.17.1//NONSGML v1.0//EN
CALSCALE:GREGORIAN
METHOD:PUBLISH
X-WR-CALNAME:Jesmond Library
X-ORIGINAL-URL:https://jesmondlibrary.org
X-WR-CALDESC:Events for Jesmond Library
REFRESH-INTERVAL;VALUE=DURATION:PT1H
X-Robots-Tag:noindex
X-PUBLISHED-TTL:PT1H
BEGIN:VTIMEZONE
TZID:Europe/London
BEGIN:DAYLIGHT
TZOFFSETFROM:+0000
TZOFFSETTO:+0100
TZNAME:BST
DTSTART:20230326T010000
END:DAYLIGHT
BEGIN:STANDARD
TZOFFSETFROM:+0100
TZOFFSETTO:+0000
TZNAME:GMT
DTSTART:20231029T010000
END:STANDARD
BEGIN:DAYLIGHT
TZOFFSETFROM:+0000
TZOFFSETTO:+0100
TZNAME:BST
DTSTART:20240331T010000
END:DAYLIGHT
BEGIN:STANDARD
TZOFFSETFROM:+0100
TZOFFSETTO:+0000
TZNAME:GMT
DTSTART:20241027T010000
END:STANDARD
BEGIN:DAYLIGHT
TZOFFSETFROM:+0000
TZOFFSETTO:+0100
TZNAME:BST
DTSTART:20250330T010000
END:DAYLIGHT
BEGIN:STANDARD
TZOFFSETFROM:+0100
TZOFFSETTO:+0000
TZNAME:GMT
DTSTART:20251026T010000
END:STANDARD
END:VTIMEZONE
BEGIN:VEVENT
DTSTART;TZID=Europe/London:20240909T093000
DTEND;TZID=Europe/London:20240909T101500
DTSTAMP:20260419T161833
CREATED:20240814T094140Z
LAST-MODIFIED:20240814T094140Z
UID:10054731-1725874200-1725876900@jesmondlibrary.org
SUMMARY:Los Pequenos Pre-school Spanish
DESCRIPTION:
URL:https://jesmondlibrary.org/event/los-pequenos-pre-school-spanish-3/2024-09-09/
LOCATION:Catherine Cookson Room
ATTACH;FMTTYPE=image/png:https://jesmondlibrary.org/wp-content/uploads/2024/08/Little_ones_Spanish_Sept_20241.png
END:VEVENT
BEGIN:VEVENT
DTSTART;TZID=Europe/London:20240909T140000
DTEND;TZID=Europe/London:20240909T161500
DTSTAMP:20260419T161833
CREATED:20240906T161903Z
LAST-MODIFIED:20240909T103922Z
UID:10054775-1725890400-1725898500@jesmondlibrary.org
SUMMARY:AT Oliver Private booking
DESCRIPTION:
URL:https://jesmondlibrary.org/event/private-booking/
LOCATION:Sid Chaplin room
END:VEVENT
BEGIN:VEVENT
DTSTART;TZID=Europe/London:20240909T163000
DTEND;TZID=Europe/London:20240909T210000
DTSTAMP:20260419T161833
CREATED:20240724T164201Z
LAST-MODIFIED:20240814T093338Z
UID:10054697-1725899400-1725915600@jesmondlibrary.org
SUMMARY:Private party
DESCRIPTION:
URL:https://jesmondlibrary.org/event/private-party-tbc/
LOCATION:Main Room & Catherine Cookson Room
END:VEVENT
BEGIN:VEVENT
DTSTART;TZID=Europe/London:20240909T190000
DTEND;TZID=Europe/London:20240909T210000
DTSTAMP:20260419T161833
CREATED:20240906T130653Z
LAST-MODIFIED:20240906T130712Z
UID:10053252-1725908400-1725915600@jesmondlibrary.org
SUMMARY:Play Reading
DESCRIPTION:
URL:https://jesmondlibrary.org/event/play-reading/
LOCATION:Sid Chaplin room
ATTACH;FMTTYPE=image/jpeg:https://jesmondlibrary.org/wp-content/uploads/2022/11/PLAY-READING.jpg
ORGANIZER;CN="Jesmond Library":MAILTO:events@jesmondlibrary.org
END:VEVENT
END:VCALENDAR