BEGIN:VCALENDAR
VERSION:2.0
PRODID:-//Jesmond Library - ECPv6.15.17.1//NONSGML v1.0//EN
CALSCALE:GREGORIAN
METHOD:PUBLISH
X-ORIGINAL-URL:https://jesmondlibrary.org
X-WR-CALDESC:Events for Jesmond Library
REFRESH-INTERVAL;VALUE=DURATION:PT1H
X-Robots-Tag:noindex
X-PUBLISHED-TTL:PT1H
BEGIN:VTIMEZONE
TZID:Europe/London
BEGIN:DAYLIGHT
TZOFFSETFROM:+0000
TZOFFSETTO:+0100
TZNAME:BST
DTSTART:20230326T010000
END:DAYLIGHT
BEGIN:STANDARD
TZOFFSETFROM:+0100
TZOFFSETTO:+0000
TZNAME:GMT
DTSTART:20231029T010000
END:STANDARD
BEGIN:DAYLIGHT
TZOFFSETFROM:+0000
TZOFFSETTO:+0100
TZNAME:BST
DTSTART:20240331T010000
END:DAYLIGHT
BEGIN:STANDARD
TZOFFSETFROM:+0100
TZOFFSETTO:+0000
TZNAME:GMT
DTSTART:20241027T010000
END:STANDARD
BEGIN:DAYLIGHT
TZOFFSETFROM:+0000
TZOFFSETTO:+0100
TZNAME:BST
DTSTART:20250330T010000
END:DAYLIGHT
BEGIN:STANDARD
TZOFFSETFROM:+0100
TZOFFSETTO:+0000
TZNAME:GMT
DTSTART:20251026T010000
END:STANDARD
END:VTIMEZONE
BEGIN:VEVENT
DTSTART;TZID=Europe/London:20240904T103000
DTEND;TZID=Europe/London:20240904T130000
DTSTAMP:20260419T180329
CREATED:20240429T110648Z
LAST-MODIFIED:20240819T152654Z
UID:10053217-1725445800-1725454800@jesmondlibrary.org
SUMMARY:Wellbeing for Life - Memories of Wartime & Post-War Britain
DESCRIPTION:
URL:https://jesmondlibrary.org/event/wellbeing-for-life-9/
LOCATION:Main Room & Catherine Cookson Room
ATTACH;FMTTYPE=image/jpeg:https://jesmondlibrary.org/wp-content/uploads/2024/04/Wellbeing-123-A4.jpg
ORGANIZER;CN="Jesmond Library":MAILTO:events@jesmondlibrary.org
END:VEVENT
BEGIN:VEVENT
DTSTART;TZID=Europe/London:20240904T113000
DTEND;TZID=Europe/London:20240904T133000
DTSTAMP:20260419T180329
CREATED:20240806T113652Z
LAST-MODIFIED:20240806T113835Z
UID:10054728-1725449400-1725456600@jesmondlibrary.org
SUMMARY:Jesmond Orchard (in case of bad weather)
DESCRIPTION:
URL:https://jesmondlibrary.org/event/jesmond-orchard-in-case-of-bad-weather/
LOCATION:Sid Chaplin room
END:VEVENT
BEGIN:VEVENT
DTSTART;TZID=Europe/London:20240904T190000
DTEND;TZID=Europe/London:20240904T210000
DTSTAMP:20260419T180329
CREATED:20231118T114739Z
LAST-MODIFIED:20231229T120003Z
UID:10050173-1725476400-1725483600@jesmondlibrary.org
SUMMARY:Serene Reflections
DESCRIPTION:
URL:https://jesmondlibrary.org/event/serene-reflections/2024-09-04/
LOCATION:Sid Chaplin room
END:VEVENT
END:VCALENDAR