BEGIN:VCALENDAR
VERSION:2.0
PRODID:-//Jesmond Library - ECPv6.15.17.1//NONSGML v1.0//EN
CALSCALE:GREGORIAN
METHOD:PUBLISH
X-WR-CALNAME:Jesmond Library
X-ORIGINAL-URL:https://jesmondlibrary.org
X-WR-CALDESC:Events for Jesmond Library
REFRESH-INTERVAL;VALUE=DURATION:PT1H
X-Robots-Tag:noindex
X-PUBLISHED-TTL:PT1H
BEGIN:VTIMEZONE
TZID:Europe/London
BEGIN:DAYLIGHT
TZOFFSETFROM:+0000
TZOFFSETTO:+0100
TZNAME:BST
DTSTART:20230326T010000
END:DAYLIGHT
BEGIN:STANDARD
TZOFFSETFROM:+0100
TZOFFSETTO:+0000
TZNAME:GMT
DTSTART:20231029T010000
END:STANDARD
BEGIN:DAYLIGHT
TZOFFSETFROM:+0000
TZOFFSETTO:+0100
TZNAME:BST
DTSTART:20240331T010000
END:DAYLIGHT
BEGIN:STANDARD
TZOFFSETFROM:+0100
TZOFFSETTO:+0000
TZNAME:GMT
DTSTART:20241027T010000
END:STANDARD
BEGIN:DAYLIGHT
TZOFFSETFROM:+0000
TZOFFSETTO:+0100
TZNAME:BST
DTSTART:20250330T010000
END:DAYLIGHT
BEGIN:STANDARD
TZOFFSETFROM:+0100
TZOFFSETTO:+0000
TZNAME:GMT
DTSTART:20251026T010000
END:STANDARD
END:VTIMEZONE
BEGIN:VEVENT
DTSTART;TZID=Europe/London:20240806T093000
DTEND;TZID=Europe/London:20240806T163000
DTSTAMP:20260419T143638
CREATED:20231205T112520Z
LAST-MODIFIED:20240126T103620Z
UID:10052935-1722936600-1722961800@jesmondlibrary.org
SUMMARY:LIBRARY OPEN TUESDAYS
DESCRIPTION:
URL:https://jesmondlibrary.org/event/library-open-2024/2024-08-06/
LOCATION:Main Room
ORGANIZER;CN="Jesmond Library":MAILTO:events@jesmondlibrary.org
END:VEVENT
BEGIN:VEVENT
DTSTART;TZID=Europe/London:20240806T100000
DTEND;TZID=Europe/London:20240806T110000
DTSTAMP:20260419T143638
CREATED:20231118T115553Z
LAST-MODIFIED:20231229T113823Z
UID:10050335-1722938400-1722942000@jesmondlibrary.org
SUMMARY:Intermediate German conversation
DESCRIPTION:
URL:https://jesmondlibrary.org/event/intermediate-german-conversation/2024-08-06/
LOCATION:Sid Chaplin room
ATTACH;FMTTYPE=image/jpeg:https://jesmondlibrary.org/wp-content/uploads/2023/11/GERMAN-INT.jpg
ORGANIZER;CN="Jesmond Library":MAILTO:events@jesmondlibrary.org
END:VEVENT
BEGIN:VEVENT
DTSTART;TZID=Europe/London:20240806T110000
DTEND;TZID=Europe/London:20240806T120000
DTSTAMP:20260419T143638
CREATED:20231118T115723Z
LAST-MODIFIED:20231229T114210Z
UID:10050396-1722942000-1722945600@jesmondlibrary.org
SUMMARY:Spanish conversation - Beginners
DESCRIPTION:
URL:https://jesmondlibrary.org/event/spanish-conversation-10/2024-08-06/
LOCATION:Sid Chaplin room
ATTACH;FMTTYPE=image/jpeg:https://jesmondlibrary.org/wp-content/uploads/2023/11/SPANISH.jpg
ORGANIZER;CN="Jesmond Library":MAILTO:events@jesmondlibrary.org
END:VEVENT
BEGIN:VEVENT
DTSTART;TZID=Europe/London:20240806T130000
DTEND;TZID=Europe/London:20240806T140000
DTSTAMP:20260419T143638
CREATED:20231118T120005Z
LAST-MODIFIED:20240913T123700Z
UID:10053833-1722949200-1722952800@jesmondlibrary.org
SUMMARY:French conversation - Intermediate
DESCRIPTION:
URL:https://jesmondlibrary.org/event/french-conversation-2024-01-16/2024-08-06/
LOCATION:Catherine Cookson Room\, Jesmond Library\, Newcastle upon Tyne\, NE2 2DL\, United Kingdom
ATTACH;FMTTYPE=image/jpeg:https://jesmondlibrary.org/wp-content/uploads/2023/11/image_64834411.jpg
ORGANIZER;CN="Jesmond Library":MAILTO:events@jesmondlibrary.org
GEO:54.9932456;-1.606461
X-APPLE-STRUCTURED-LOCATION;VALUE=URI;X-ADDRESS=Catherine Cookson Room Jesmond Library Newcastle upon Tyne NE2 2DL United Kingdom;X-APPLE-RADIUS=500;X-TITLE=Jesmond Library:geo:-1.606461,54.9932456
END:VEVENT
BEGIN:VEVENT
DTSTART;TZID=Europe/London:20240806T140000
DTEND;TZID=Europe/London:20240806T153000
DTSTAMP:20260419T143638
CREATED:20231118T121034Z
LAST-MODIFIED:20240710T090914Z
UID:10050196-1722952800-1722958200@jesmondlibrary.org
SUMMARY:Poetry Sharing
DESCRIPTION:
URL:https://jesmondlibrary.org/event/poetry-sharing-2/2024-08-06/
LOCATION:Sid Chaplin room
ATTACH;FMTTYPE=image/jpeg:https://jesmondlibrary.org/wp-content/uploads/2023/11/POETRY_SHARING1.jpg
ORGANIZER;CN="Jesmond Library":MAILTO:events@jesmondlibrary.org
END:VEVENT
END:VCALENDAR