BEGIN:VCALENDAR
VERSION:2.0
PRODID:-//Jesmond Library - ECPv6.15.17.1//NONSGML v1.0//EN
CALSCALE:GREGORIAN
METHOD:PUBLISH
X-WR-CALNAME:Jesmond Library
X-ORIGINAL-URL:https://jesmondlibrary.org
X-WR-CALDESC:Events for Jesmond Library
REFRESH-INTERVAL;VALUE=DURATION:PT1H
X-Robots-Tag:noindex
X-PUBLISHED-TTL:PT1H
BEGIN:VTIMEZONE
TZID:Europe/London
BEGIN:DAYLIGHT
TZOFFSETFROM:+0000
TZOFFSETTO:+0100
TZNAME:BST
DTSTART:20230326T010000
END:DAYLIGHT
BEGIN:STANDARD
TZOFFSETFROM:+0100
TZOFFSETTO:+0000
TZNAME:GMT
DTSTART:20231029T010000
END:STANDARD
BEGIN:DAYLIGHT
TZOFFSETFROM:+0000
TZOFFSETTO:+0100
TZNAME:BST
DTSTART:20240331T010000
END:DAYLIGHT
BEGIN:STANDARD
TZOFFSETFROM:+0100
TZOFFSETTO:+0000
TZNAME:GMT
DTSTART:20241027T010000
END:STANDARD
BEGIN:DAYLIGHT
TZOFFSETFROM:+0000
TZOFFSETTO:+0100
TZNAME:BST
DTSTART:20250330T010000
END:DAYLIGHT
BEGIN:STANDARD
TZOFFSETFROM:+0100
TZOFFSETTO:+0000
TZNAME:GMT
DTSTART:20251026T010000
END:STANDARD
END:VTIMEZONE
BEGIN:VEVENT
DTSTART;TZID=Europe/London:20240611T093000
DTEND;TZID=Europe/London:20240611T163000
DTSTAMP:20260420T053910
CREATED:20231205T112520Z
LAST-MODIFIED:20240126T103620Z
UID:10052927-1718098200-1718123400@jesmondlibrary.org
SUMMARY:LIBRARY OPEN TUESDAYS
DESCRIPTION:
URL:https://jesmondlibrary.org/event/library-open-2024/2024-06-11/
LOCATION:Main Room
ORGANIZER;CN="Jesmond Library":MAILTO:events@jesmondlibrary.org
END:VEVENT
BEGIN:VEVENT
DTSTART;TZID=Europe/London:20240611T100000
DTEND;TZID=Europe/London:20240611T110000
DTSTAMP:20260420T053910
CREATED:20231118T115553Z
LAST-MODIFIED:20231229T113823Z
UID:10050327-1718100000-1718103600@jesmondlibrary.org
SUMMARY:Intermediate German conversation
DESCRIPTION:
URL:https://jesmondlibrary.org/event/intermediate-german-conversation/2024-06-11/
LOCATION:Sid Chaplin room
ATTACH;FMTTYPE=image/jpeg:https://jesmondlibrary.org/wp-content/uploads/2023/11/GERMAN-INT.jpg
ORGANIZER;CN="Jesmond Library":MAILTO:events@jesmondlibrary.org
END:VEVENT
BEGIN:VEVENT
DTSTART;TZID=Europe/London:20240611T110000
DTEND;TZID=Europe/London:20240611T120000
DTSTAMP:20260420T053910
CREATED:20231118T115723Z
LAST-MODIFIED:20231229T114210Z
UID:10050388-1718103600-1718107200@jesmondlibrary.org
SUMMARY:Spanish conversation - Beginners
DESCRIPTION:
URL:https://jesmondlibrary.org/event/spanish-conversation-10/2024-06-11/
LOCATION:Sid Chaplin room
ATTACH;FMTTYPE=image/jpeg:https://jesmondlibrary.org/wp-content/uploads/2023/11/SPANISH.jpg
ORGANIZER;CN="Jesmond Library":MAILTO:events@jesmondlibrary.org
END:VEVENT
BEGIN:VEVENT
DTSTART;TZID=Europe/London:20240611T130000
DTEND;TZID=Europe/London:20240611T140000
DTSTAMP:20260420T053910
CREATED:20231118T120005Z
LAST-MODIFIED:20240913T123700Z
UID:10053825-1718110800-1718114400@jesmondlibrary.org
SUMMARY:French conversation - Intermediate
DESCRIPTION:
URL:https://jesmondlibrary.org/event/french-conversation-2024-01-16/2024-06-11/
LOCATION:Catherine Cookson Room\, Jesmond Library\, Newcastle upon Tyne\, NE2 2DL\, United Kingdom
ATTACH;FMTTYPE=image/jpeg:https://jesmondlibrary.org/wp-content/uploads/2023/11/image_64834411.jpg
ORGANIZER;CN="Jesmond Library":MAILTO:events@jesmondlibrary.org
GEO:54.9932456;-1.606461
X-APPLE-STRUCTURED-LOCATION;VALUE=URI;X-ADDRESS=Catherine Cookson Room Jesmond Library Newcastle upon Tyne NE2 2DL United Kingdom;X-APPLE-RADIUS=500;X-TITLE=Jesmond Library:geo:-1.606461,54.9932456
END:VEVENT
BEGIN:VEVENT
DTSTART;TZID=Europe/London:20240611T141500
DTEND;TZID=Europe/London:20240611T154500
DTSTAMP:20260420T053910
CREATED:20231118T121418Z
LAST-MODIFIED:20231229T115457Z
UID:10050275-1718115300-1718120700@jesmondlibrary.org
SUMMARY:Craft 'n' Chat
DESCRIPTION:
URL:https://jesmondlibrary.org/event/craft-n-chat-3/2024-06-11/
LOCATION:Catherine Cookson Room\, Jesmond Library\, Newcastle upon Tyne\, NE2 2DL\, United Kingdom
ATTACH;FMTTYPE=image/jpeg:https://jesmondlibrary.org/wp-content/uploads/2023/02/CRAFT-N-CHAT-1.jpg
ORGANIZER;CN="Jesmond Library":MAILTO:events@jesmondlibrary.org
GEO:54.9932456;-1.606461
X-APPLE-STRUCTURED-LOCATION;VALUE=URI;X-ADDRESS=Catherine Cookson Room Jesmond Library Newcastle upon Tyne NE2 2DL United Kingdom;X-APPLE-RADIUS=500;X-TITLE=Jesmond Library:geo:-1.606461,54.9932456
END:VEVENT
BEGIN:VEVENT
DTSTART;TZID=Europe/London:20240611T170000
DTEND;TZID=Europe/London:20240611T180000
DTSTAMP:20260420T053910
CREATED:20240130T151337Z
LAST-MODIFIED:20240516T120236Z
UID:10053370-1718125200-1718128800@jesmondlibrary.org
SUMMARY:Keep Jesmond Clean Meeting
DESCRIPTION:
URL:https://jesmondlibrary.org/event/keep-jesmond-clean-meeting-5/
LOCATION:Main Room
ATTACH;FMTTYPE=image/jpeg:https://jesmondlibrary.org/wp-content/uploads/2023/07/KJC-generic-poster-with-details.jpg
END:VEVENT
BEGIN:VEVENT
DTSTART;TZID=Europe/London:20240611T180000
DTEND;TZID=Europe/London:20240611T190000
DTSTAMP:20260420T053910
CREATED:20240601T135931Z
LAST-MODIFIED:20240602T200228Z
UID:10054534-1718128800-1718132400@jesmondlibrary.org
SUMMARY:Private Spanish lessons
DESCRIPTION:
URL:https://jesmondlibrary.org/event/private-spanish-lessons-tbc-3/
LOCATION:Main Room
END:VEVENT
BEGIN:VEVENT
DTSTART;TZID=Europe/London:20240611T180000
DTEND;TZID=Europe/London:20240611T193000
DTSTAMP:20260420T053910
CREATED:20240215T104653Z
LAST-MODIFIED:20240216T143352Z
UID:10053796-1718128800-1718134200@jesmondlibrary.org
SUMMARY:Private Italian lessons
DESCRIPTION:
URL:https://jesmondlibrary.org/event/private-italian-lessons/2024-06-11/
LOCATION:Sid Chaplin room
END:VEVENT
BEGIN:VEVENT
DTSTART;TZID=Europe/London:20240611T190000
DTEND;TZID=Europe/London:20240611T203000
DTSTAMP:20260420T053910
CREATED:20240508T092900Z
LAST-MODIFIED:20240508T093314Z
UID:10054207-1718132400-1718137800@jesmondlibrary.org
SUMMARY:Jesmond Community Forum meeting
DESCRIPTION:
URL:https://jesmondlibrary.org/event/jesmond-labour-party-meeting/
LOCATION:Main Room
END:VEVENT
END:VCALENDAR