BEGIN:VCALENDAR
VERSION:2.0
PRODID:-//Jesmond Library - ECPv6.15.17.1//NONSGML v1.0//EN
CALSCALE:GREGORIAN
METHOD:PUBLISH
X-WR-CALNAME:Jesmond Library
X-ORIGINAL-URL:https://jesmondlibrary.org
X-WR-CALDESC:Events for Jesmond Library
REFRESH-INTERVAL;VALUE=DURATION:PT1H
X-Robots-Tag:noindex
X-PUBLISHED-TTL:PT1H
BEGIN:VTIMEZONE
TZID:Europe/London
BEGIN:DAYLIGHT
TZOFFSETFROM:+0000
TZOFFSETTO:+0100
TZNAME:BST
DTSTART:20230326T010000
END:DAYLIGHT
BEGIN:STANDARD
TZOFFSETFROM:+0100
TZOFFSETTO:+0000
TZNAME:GMT
DTSTART:20231029T010000
END:STANDARD
BEGIN:DAYLIGHT
TZOFFSETFROM:+0000
TZOFFSETTO:+0100
TZNAME:BST
DTSTART:20240331T010000
END:DAYLIGHT
BEGIN:STANDARD
TZOFFSETFROM:+0100
TZOFFSETTO:+0000
TZNAME:GMT
DTSTART:20241027T010000
END:STANDARD
BEGIN:DAYLIGHT
TZOFFSETFROM:+0000
TZOFFSETTO:+0100
TZNAME:BST
DTSTART:20250330T010000
END:DAYLIGHT
BEGIN:STANDARD
TZOFFSETFROM:+0100
TZOFFSETTO:+0000
TZNAME:GMT
DTSTART:20251026T010000
END:STANDARD
END:VTIMEZONE
BEGIN:VEVENT
DTSTART;TZID=Europe/London:20240606T093000
DTEND;TZID=Europe/London:20240606T180000
DTSTAMP:20260420T070510
CREATED:20231205T112652Z
LAST-MODIFIED:20240103T135518Z
UID:10052983-1717666200-1717696800@jesmondlibrary.org
SUMMARY:LIBRARY OPEN THURSDAYS
DESCRIPTION:
URL:https://jesmondlibrary.org/event/library-open-thursdays-2024/2024-06-06/
LOCATION:Main Room
ORGANIZER;CN="Jesmond Library":MAILTO:events@jesmondlibrary.org
END:VEVENT
BEGIN:VEVENT
DTSTART;TZID=Europe/London:20240606T100000
DTEND;TZID=Europe/London:20240606T110000
DTSTAMP:20260420T070510
CREATED:20240212T142946Z
LAST-MODIFIED:20240529T102929Z
UID:10053719-1717668000-1717671600@jesmondlibrary.org
SUMMARY:Story & Rhyme Time
DESCRIPTION:
URL:https://jesmondlibrary.org/event/story-rhyme-time-3/2024-06-06/
LOCATION:Main Room
ATTACH;FMTTYPE=image/jpeg:https://jesmondlibrary.org/wp-content/uploads/2024/02/STORYTIME1.jpg
ORGANIZER;CN="Jesmond Library":MAILTO:events@jesmondlibrary.org
END:VEVENT
BEGIN:VEVENT
DTSTART;TZID=Europe/London:20240606T100000
DTEND;TZID=Europe/London:20240606T120000
DTSTAMP:20260420T070510
CREATED:20240321T124648Z
LAST-MODIFIED:20240321T124648Z
UID:10053905-1717668000-1717675200@jesmondlibrary.org
SUMMARY:Private French conversation group
DESCRIPTION:
URL:https://jesmondlibrary.org/event/private-french-conversation-group-3/2024-06-06/
LOCATION:Sid Chaplin room
END:VEVENT
BEGIN:VEVENT
DTSTART;TZID=Europe/London:20240606T104500
DTEND;TZID=Europe/London:20240606T114500
DTSTAMP:20260420T070510
CREATED:20231118T114334Z
LAST-MODIFIED:20231229T120427Z
UID:10052812-1717670700-1717674300@jesmondlibrary.org
SUMMARY:Advanced German conversation group
DESCRIPTION:
URL:https://jesmondlibrary.org/event/advanced-german/2024-06-06/
LOCATION:Catherine Cookson Room\, Jesmond Library\, Newcastle upon Tyne\, NE2 2DL\, United Kingdom
ORGANIZER;CN="Jesmond Library":MAILTO:events@jesmondlibrary.org
GEO:54.9932456;-1.606461
X-APPLE-STRUCTURED-LOCATION;VALUE=URI;X-ADDRESS=Catherine Cookson Room Jesmond Library Newcastle upon Tyne NE2 2DL United Kingdom;X-APPLE-RADIUS=500;X-TITLE=Jesmond Library:geo:-1.606461,54.9932456
END:VEVENT
BEGIN:VEVENT
DTSTART;TZID=Europe/London:20240606T143000
DTEND;TZID=Europe/London:20240606T153000
DTSTAMP:20260420T070510
CREATED:20240517T151754Z
LAST-MODIFIED:20240522T142124Z
UID:10054480-1717684200-1717687800@jesmondlibrary.org
SUMMARY:Keyfort Group Private Meeting
DESCRIPTION:
URL:https://jesmondlibrary.org/event/private-meeting-tbc-4/2024-06-06/
LOCATION:Catherine Cookson Room
END:VEVENT
BEGIN:VEVENT
DTSTART;TZID=Europe/London:20240606T180000
DTEND;TZID=Europe/London:20240606T190000
DTSTAMP:20260420T070510
CREATED:20240317T165759Z
LAST-MODIFIED:20240502T140351Z
UID:10053894-1717696800-1717700400@jesmondlibrary.org
SUMMARY:Thursday Talk - Julie & Martin Eccles: We must go down to the Wood
DESCRIPTION:
URL:https://jesmondlibrary.org/event/thursday-talk-julie-eccles-our-wood/
LOCATION:Main Room
ATTACH;FMTTYPE=image/jpeg:https://jesmondlibrary.org/wp-content/uploads/2024/03/J-M-Eccles.jpg
ORGANIZER;CN="Jesmond Library":MAILTO:events@jesmondlibrary.org
END:VEVENT
BEGIN:VEVENT
DTSTART;TZID=Europe/London:20240606T180000
DTEND;TZID=Europe/London:20240606T193000
DTSTAMP:20260420T070510
CREATED:20231118T115102Z
LAST-MODIFIED:20231229T120934Z
UID:10050223-1717696800-1717702200@jesmondlibrary.org
SUMMARY:Spanish Conversation
DESCRIPTION:
URL:https://jesmondlibrary.org/event/spanish-conversation-9/2024-06-06/
LOCATION:Sid Chaplin room
ATTACH;FMTTYPE=image/jpeg:https://jesmondlibrary.org/wp-content/uploads/2022/05/SPANISH.jpg
ORGANIZER;CN="Jesmond Library":MAILTO:events@jesmondlibrary.org
END:VEVENT
END:VCALENDAR