BEGIN:VCALENDAR
VERSION:2.0
PRODID:-//Jesmond Library - ECPv6.15.17.1//NONSGML v1.0//EN
CALSCALE:GREGORIAN
METHOD:PUBLISH
X-ORIGINAL-URL:https://jesmondlibrary.org
X-WR-CALDESC:Events for Jesmond Library
REFRESH-INTERVAL;VALUE=DURATION:PT1H
X-Robots-Tag:noindex
X-PUBLISHED-TTL:PT1H
BEGIN:VTIMEZONE
TZID:Europe/London
BEGIN:DAYLIGHT
TZOFFSETFROM:+0000
TZOFFSETTO:+0100
TZNAME:BST
DTSTART:20230326T010000
END:DAYLIGHT
BEGIN:STANDARD
TZOFFSETFROM:+0100
TZOFFSETTO:+0000
TZNAME:GMT
DTSTART:20231029T010000
END:STANDARD
BEGIN:DAYLIGHT
TZOFFSETFROM:+0000
TZOFFSETTO:+0100
TZNAME:BST
DTSTART:20240331T010000
END:DAYLIGHT
BEGIN:STANDARD
TZOFFSETFROM:+0100
TZOFFSETTO:+0000
TZNAME:GMT
DTSTART:20241027T010000
END:STANDARD
BEGIN:DAYLIGHT
TZOFFSETFROM:+0000
TZOFFSETTO:+0100
TZNAME:BST
DTSTART:20250330T010000
END:DAYLIGHT
BEGIN:STANDARD
TZOFFSETFROM:+0100
TZOFFSETTO:+0000
TZNAME:GMT
DTSTART:20251026T010000
END:STANDARD
END:VTIMEZONE
BEGIN:VEVENT
DTSTART;TZID=Europe/London:20240529T100000
DTEND;TZID=Europe/London:20240529T120000
DTSTAMP:20260420T115450
CREATED:20240516T153457Z
LAST-MODIFIED:20240516T153457Z
UID:10054478-1716976800-1716984000@jesmondlibrary.org
SUMMARY:Barclay Roofing survey
DESCRIPTION:
URL:https://jesmondlibrary.org/event/barclay-roofing-survey/
ORGANIZER;CN="Jesmond Library":MAILTO:events@jesmondlibrary.org
END:VEVENT
BEGIN:VEVENT
DTSTART;TZID=Europe/London:20240529T110000
DTEND;TZID=Europe/London:20240529T124500
DTSTAMP:20260420T115450
CREATED:20240523T084552Z
LAST-MODIFIED:20240527T132349Z
UID:10054530-1716980400-1716986700@jesmondlibrary.org
SUMMARY:Social Return private session
DESCRIPTION:
URL:https://jesmondlibrary.org/event/social-return-tbc/
LOCATION:Catherine Cookson Room
END:VEVENT
BEGIN:VEVENT
DTSTART;TZID=Europe/London:20240529T190000
DTEND;TZID=Europe/London:20240529T210000
DTSTAMP:20260420T115450
CREATED:20231118T114739Z
LAST-MODIFIED:20231229T120003Z
UID:10050159-1717009200-1717016400@jesmondlibrary.org
SUMMARY:Serene Reflections
DESCRIPTION:
URL:https://jesmondlibrary.org/event/serene-reflections/2024-05-29/
LOCATION:Sid Chaplin room
END:VEVENT
END:VCALENDAR