BEGIN:VCALENDAR
VERSION:2.0
PRODID:-//Jesmond Library - ECPv6.15.17.1//NONSGML v1.0//EN
CALSCALE:GREGORIAN
METHOD:PUBLISH
X-ORIGINAL-URL:https://jesmondlibrary.org
X-WR-CALDESC:Events for Jesmond Library
REFRESH-INTERVAL;VALUE=DURATION:PT1H
X-Robots-Tag:noindex
X-PUBLISHED-TTL:PT1H
BEGIN:VTIMEZONE
TZID:Europe/London
BEGIN:DAYLIGHT
TZOFFSETFROM:+0000
TZOFFSETTO:+0100
TZNAME:BST
DTSTART:20230326T010000
END:DAYLIGHT
BEGIN:STANDARD
TZOFFSETFROM:+0100
TZOFFSETTO:+0000
TZNAME:GMT
DTSTART:20231029T010000
END:STANDARD
BEGIN:DAYLIGHT
TZOFFSETFROM:+0000
TZOFFSETTO:+0100
TZNAME:BST
DTSTART:20240331T010000
END:DAYLIGHT
BEGIN:STANDARD
TZOFFSETFROM:+0100
TZOFFSETTO:+0000
TZNAME:GMT
DTSTART:20241027T010000
END:STANDARD
BEGIN:DAYLIGHT
TZOFFSETFROM:+0000
TZOFFSETTO:+0100
TZNAME:BST
DTSTART:20250330T010000
END:DAYLIGHT
BEGIN:STANDARD
TZOFFSETFROM:+0100
TZOFFSETTO:+0000
TZNAME:GMT
DTSTART:20251026T010000
END:STANDARD
END:VTIMEZONE
BEGIN:VEVENT
DTSTART;TZID=Europe/London:20240521T093000
DTEND;TZID=Europe/London:20240521T163000
DTSTAMP:20260425T124714
CREATED:20231205T112520Z
LAST-MODIFIED:20240126T103620Z
UID:10052924-1716283800-1716309000@jesmondlibrary.org
SUMMARY:LIBRARY OPEN TUESDAYS
DESCRIPTION:
URL:https://jesmondlibrary.org/event/library-open-2024/2024-05-21/
LOCATION:Main Room
ORGANIZER;CN="Jesmond Library":MAILTO:events@jesmondlibrary.org
END:VEVENT
BEGIN:VEVENT
DTSTART;TZID=Europe/London:20240521T093000
DTEND;TZID=Europe/London:20240521T163000
DTSTAMP:20260425T124714
CREATED:20240430T102028Z
LAST-MODIFIED:20240430T102028Z
UID:10054148-1716283800-1716309000@jesmondlibrary.org
SUMMARY:NPS Art Exhibition
DESCRIPTION:
URL:https://jesmondlibrary.org/event/nps-art-exhibition-4/2024-05-21/
ATTACH;FMTTYPE=image/jpeg:https://jesmondlibrary.org/wp-content/uploads/2024/04/NPS-Art-Exhibition-2-scaled.jpg
ORGANIZER;CN="Jesmond Library":MAILTO:events@jesmondlibrary.org
END:VEVENT
BEGIN:VEVENT
DTSTART;TZID=Europe/London:20240521T100000
DTEND;TZID=Europe/London:20240521T110000
DTSTAMP:20260425T124714
CREATED:20231118T115553Z
LAST-MODIFIED:20231229T113823Z
UID:10050324-1716285600-1716289200@jesmondlibrary.org
SUMMARY:Intermediate German conversation
DESCRIPTION:
URL:https://jesmondlibrary.org/event/intermediate-german-conversation/2024-05-21/
LOCATION:Sid Chaplin room
ATTACH;FMTTYPE=image/jpeg:https://jesmondlibrary.org/wp-content/uploads/2023/11/GERMAN-INT.jpg
ORGANIZER;CN="Jesmond Library":MAILTO:events@jesmondlibrary.org
END:VEVENT
BEGIN:VEVENT
DTSTART;TZID=Europe/London:20240521T100000
DTEND;TZID=Europe/London:20240521T120000
DTSTAMP:20260425T124714
CREATED:20240330T142230Z
LAST-MODIFIED:20240330T142535Z
UID:10053982-1716285600-1716292800@jesmondlibrary.org
SUMMARY:Current Affairs Discussion Group
DESCRIPTION:
URL:https://jesmondlibrary.org/event/current-affairs-discussion-group/2024-05-21/
LOCATION:Catherine Cookson Room
ORGANIZER;CN="Jesmond Library":MAILTO:events@jesmondlibrary.org
END:VEVENT
BEGIN:VEVENT
DTSTART;TZID=Europe/London:20240521T110000
DTEND;TZID=Europe/London:20240521T120000
DTSTAMP:20260425T124714
CREATED:20231118T115723Z
LAST-MODIFIED:20231229T114210Z
UID:10050385-1716289200-1716292800@jesmondlibrary.org
SUMMARY:Spanish conversation - Beginners
DESCRIPTION:
URL:https://jesmondlibrary.org/event/spanish-conversation-10/2024-05-21/
LOCATION:Sid Chaplin room
ATTACH;FMTTYPE=image/jpeg:https://jesmondlibrary.org/wp-content/uploads/2023/11/SPANISH.jpg
ORGANIZER;CN="Jesmond Library":MAILTO:events@jesmondlibrary.org
END:VEVENT
BEGIN:VEVENT
DTSTART;TZID=Europe/London:20240521T130000
DTEND;TZID=Europe/London:20240521T140000
DTSTAMP:20260425T124714
CREATED:20231118T120005Z
LAST-MODIFIED:20240913T123700Z
UID:10053822-1716296400-1716300000@jesmondlibrary.org
SUMMARY:French conversation - Intermediate
DESCRIPTION:
URL:https://jesmondlibrary.org/event/french-conversation-2024-01-16/2024-05-21/
LOCATION:Catherine Cookson Room\, Jesmond Library\, Newcastle upon Tyne\, NE2 2DL\, United Kingdom
ATTACH;FMTTYPE=image/jpeg:https://jesmondlibrary.org/wp-content/uploads/2023/11/image_64834411.jpg
ORGANIZER;CN="Jesmond Library":MAILTO:events@jesmondlibrary.org
GEO:54.9932456;-1.606461
X-APPLE-STRUCTURED-LOCATION;VALUE=URI;X-ADDRESS=Catherine Cookson Room Jesmond Library Newcastle upon Tyne NE2 2DL United Kingdom;X-APPLE-RADIUS=500;X-TITLE=Jesmond Library:geo:-1.606461,54.9932456
END:VEVENT
BEGIN:VEVENT
DTSTART;TZID=Europe/London:20240521T130000
DTEND;TZID=Europe/London:20240521T150000
DTSTAMP:20260425T124714
CREATED:20240416T121045Z
LAST-MODIFIED:20240416T121045Z
UID:10054000-1716296400-1716303600@jesmondlibrary.org
SUMMARY:NHSG Teddy Bear event
DESCRIPTION:
URL:https://jesmondlibrary.org/event/nhsg-teddy-bear-event/
LOCATION:Main room – Children’s Area
ORGANIZER;CN="Jesmond Library":MAILTO:events@jesmondlibrary.org
END:VEVENT
BEGIN:VEVENT
DTSTART;TZID=Europe/London:20240521T141500
DTEND;TZID=Europe/London:20240521T154500
DTSTAMP:20260425T124714
CREATED:20231118T121418Z
LAST-MODIFIED:20231229T115457Z
UID:10050272-1716300900-1716306300@jesmondlibrary.org
SUMMARY:Craft 'n' Chat
DESCRIPTION:
URL:https://jesmondlibrary.org/event/craft-n-chat-3/2024-05-21/
LOCATION:Catherine Cookson Room\, Jesmond Library\, Newcastle upon Tyne\, NE2 2DL\, United Kingdom
ATTACH;FMTTYPE=image/jpeg:https://jesmondlibrary.org/wp-content/uploads/2023/02/CRAFT-N-CHAT-1.jpg
ORGANIZER;CN="Jesmond Library":MAILTO:events@jesmondlibrary.org
GEO:54.9932456;-1.606461
X-APPLE-STRUCTURED-LOCATION;VALUE=URI;X-ADDRESS=Catherine Cookson Room Jesmond Library Newcastle upon Tyne NE2 2DL United Kingdom;X-APPLE-RADIUS=500;X-TITLE=Jesmond Library:geo:-1.606461,54.9932456
END:VEVENT
BEGIN:VEVENT
DTSTART;TZID=Europe/London:20240521T180000
DTEND;TZID=Europe/London:20240521T193000
DTSTAMP:20260425T124714
CREATED:20240215T104653Z
LAST-MODIFIED:20240216T143352Z
UID:10053793-1716314400-1716319800@jesmondlibrary.org
SUMMARY:Private Italian lessons
DESCRIPTION:
URL:https://jesmondlibrary.org/event/private-italian-lessons/2024-05-21/
LOCATION:Sid Chaplin room
END:VEVENT
END:VCALENDAR