BEGIN:VCALENDAR
VERSION:2.0
PRODID:-//Jesmond Library - ECPv6.15.17.1//NONSGML v1.0//EN
CALSCALE:GREGORIAN
METHOD:PUBLISH
X-ORIGINAL-URL:https://jesmondlibrary.org
X-WR-CALDESC:Events for Jesmond Library
REFRESH-INTERVAL;VALUE=DURATION:PT1H
X-Robots-Tag:noindex
X-PUBLISHED-TTL:PT1H
BEGIN:VTIMEZONE
TZID:Europe/London
BEGIN:DAYLIGHT
TZOFFSETFROM:+0000
TZOFFSETTO:+0100
TZNAME:BST
DTSTART:20230326T010000
END:DAYLIGHT
BEGIN:STANDARD
TZOFFSETFROM:+0100
TZOFFSETTO:+0000
TZNAME:GMT
DTSTART:20231029T010000
END:STANDARD
BEGIN:DAYLIGHT
TZOFFSETFROM:+0000
TZOFFSETTO:+0100
TZNAME:BST
DTSTART:20240331T010000
END:DAYLIGHT
BEGIN:STANDARD
TZOFFSETFROM:+0100
TZOFFSETTO:+0000
TZNAME:GMT
DTSTART:20241027T010000
END:STANDARD
BEGIN:DAYLIGHT
TZOFFSETFROM:+0000
TZOFFSETTO:+0100
TZNAME:BST
DTSTART:20250330T010000
END:DAYLIGHT
BEGIN:STANDARD
TZOFFSETFROM:+0100
TZOFFSETTO:+0000
TZNAME:GMT
DTSTART:20251026T010000
END:STANDARD
END:VTIMEZONE
BEGIN:VEVENT
DTSTART;TZID=Europe/London:20240427T093000
DTEND;TZID=Europe/London:20240427T163000
DTSTAMP:20260419T195731
CREATED:20231205T112847Z
LAST-MODIFIED:20240103T135812Z
UID:10053080-1714210200-1714235400@jesmondlibrary.org
SUMMARY:LIBRARY OPEN SATURDAYS
DESCRIPTION:
URL:https://jesmondlibrary.org/event/library-open-saturdays-2024/2024-04-27/
LOCATION:Main Room
ORGANIZER;CN="Jesmond Library":MAILTO:events@jesmondlibrary.org
END:VEVENT
BEGIN:VEVENT
DTSTART;TZID=Europe/London:20240427T100000
DTEND;TZID=Europe/London:20240427T110000
DTSTAMP:20260419T195731
CREATED:20240220T133750Z
LAST-MODIFIED:20240220T133751Z
UID:10050419-1714212000-1714215600@jesmondlibrary.org
SUMMARY:Lib Dem Surgery
DESCRIPTION:
URL:https://jesmondlibrary.org/event/lib-dem-surgery-2/2024-04-27/
LOCATION:Main Room
END:VEVENT
BEGIN:VEVENT
DTSTART;TZID=Europe/London:20240427T100000
DTEND;TZID=Europe/London:20240427T120000
DTSTAMP:20260419T195731
CREATED:20231102T114709Z
LAST-MODIFIED:20240306T181222Z
UID:10052768-1714212000-1714219200@jesmondlibrary.org
SUMMARY:Start Writing workshop
DESCRIPTION:
URL:https://jesmondlibrary.org/event/start-writing-workshop-tbc/2024-04-27/
LOCATION:Catherine Cookson Room\, Jesmond Library\, Newcastle upon Tyne\, NE2 2DL\, United Kingdom
ATTACH;FMTTYPE=image/jpeg:https://jesmondlibrary.org/wp-content/uploads/2023/11/Start-Writing-scaled.jpg
GEO:54.9932456;-1.606461
X-APPLE-STRUCTURED-LOCATION;VALUE=URI;X-ADDRESS=Catherine Cookson Room Jesmond Library Newcastle upon Tyne NE2 2DL United Kingdom;X-APPLE-RADIUS=500;X-TITLE=Jesmond Library:geo:-1.606461,54.9932456
END:VEVENT
BEGIN:VEVENT
DTSTART;TZID=Europe/London:20240427T100000
DTEND;TZID=Europe/London:20240427T120000
DTSTAMP:20260419T195731
CREATED:20240227T123606Z
LAST-MODIFIED:20240227T123709Z
UID:10053857-1714212000-1714219200@jesmondlibrary.org
SUMMARY:Trustees' Meeting
DESCRIPTION:
URL:https://jesmondlibrary.org/event/trustees-meeting-2/
LOCATION:Sid Chaplin room
ORGANIZER;CN="Jesmond Library":MAILTO:events@jesmondlibrary.org
END:VEVENT
BEGIN:VEVENT
DTSTART;TZID=Europe/London:20240427T123000
DTEND;TZID=Europe/London:20240427T173000
DTSTAMP:20260419T195731
CREATED:20230424T101719Z
LAST-MODIFIED:20240121T104126Z
UID:10053158-1714221000-1714239000@jesmondlibrary.org
SUMMARY:Italian Language Course for Children
DESCRIPTION:
URL:https://jesmondlibrary.org/event/italian-language-course-for-children-2024-01-13-2024-01-20-2024-01-27/2024-04-27/
LOCATION:Sid Chaplin room
ATTACH;FMTTYPE=image/jpeg:https://jesmondlibrary.org/wp-content/uploads/2023/04/POSTER.jpg
END:VEVENT
BEGIN:VEVENT
DTSTART;TZID=Europe/London:20240427T130000
DTEND;TZID=Europe/London:20240427T140000
DTSTAMP:20260419T195731
CREATED:20240425T111247Z
LAST-MODIFIED:20240425T111247Z
UID:10054001-1714222800-1714226400@jesmondlibrary.org
SUMMARY:Safeguarding Session (Wendy)
DESCRIPTION:
URL:https://jesmondlibrary.org/event/safeguarding-session-wendy/
LOCATION:Catherine Cookson Room\, Jesmond Library\, Newcastle upon Tyne\, NE2 2DL\, United Kingdom
ORGANIZER;CN="Jesmond Library":MAILTO:events@jesmondlibrary.org
GEO:54.9932456;-1.606461
X-APPLE-STRUCTURED-LOCATION;VALUE=URI;X-ADDRESS=Catherine Cookson Room Jesmond Library Newcastle upon Tyne NE2 2DL United Kingdom;X-APPLE-RADIUS=500;X-TITLE=Jesmond Library:geo:-1.606461,54.9932456
END:VEVENT
END:VCALENDAR